BEGIN:VCALENDAR
VERSION:2.0
PRODID:-//LEGGI NOCI - ECPv6.3.4//NONSGML v1.0//EN
CALSCALE:GREGORIAN
METHOD:PUBLISH
X-WR-CALNAME:LEGGI NOCI
X-ORIGINAL-URL:https://www.legginoci.com
X-WR-CALDESC:Eventi per LEGGI NOCI
REFRESH-INTERVAL;VALUE=DURATION:PT1H
X-Robots-Tag:noindex
X-PUBLISHED-TTL:PT1H
BEGIN:VTIMEZONE
TZID:Europe/Rome
BEGIN:DAYLIGHT
TZOFFSETFROM:+0100
TZOFFSETTO:+0200
TZNAME:CEST
DTSTART:20150329T010000
END:DAYLIGHT
BEGIN:STANDARD
TZOFFSETFROM:+0200
TZOFFSETTO:+0100
TZNAME:CET
DTSTART:20151025T010000
END:STANDARD
BEGIN:DAYLIGHT
TZOFFSETFROM:+0100
TZOFFSETTO:+0200
TZNAME:CEST
DTSTART:20160327T010000
END:DAYLIGHT
BEGIN:STANDARD
TZOFFSETFROM:+0200
TZOFFSETTO:+0100
TZNAME:CET
DTSTART:20161030T010000
END:STANDARD
END:VTIMEZONE
BEGIN:VEVENT
DTSTART;TZID=Europe/Rome:20160109T194500
DTEND;TZID=Europe/Rome:20160109T194500
DTSTAMP:20260421T024533
CREATED:20160108T101910Z
LAST-MODIFIED:20160108T101910Z
UID:5608-1452368700-1452368700@www.legginoci.com
SUMMARY:Io sono la Porta
DESCRIPTION:NOCI – Si terrà domani sera all’interno della parrocchia SS Nome di Gesù la benedizione della nuova porta d’ingresso alla chiesa. La diocesi Conversano-Monopoli invita la cittadinanza a prendere parte all’evento in cui interverranno l’arch. Nicola Montepaone\, don Giulio Meiattini osb della Madonna della Scala\, e don Maurizio Cardararo\, parroco della stessa chiesa. L’evento vedrà la partecipazione musicale del coro Novum Gaudium accompagnato dai maestri Gianluigi Bello (liuto) e Tina Dell’Orco (flauto).
URL:https://www.legginoci.com/evento/io-sono-la-porta/
LOCATION:chiesa SS Nome di Gesù\, via Cappuccini\, Noci\, 70015\, Italia
CATEGORIES:cat eventi 1
ATTACH;FMTTYPE=image/jpeg:https://www.legginoci.com/wp-content/uploads/2016/01/front-la-porta.jpg
END:VEVENT
BEGIN:VEVENT
DTSTART;TZID=Europe/Rome:20160106T200000
DTEND;TZID=Europe/Rome:20160106T200000
DTSTAMP:20260421T024533
CREATED:20160105T063933Z
LAST-MODIFIED:20160104T173610Z
UID:5562-1452110400-1452110400@www.legginoci.com
SUMMARY:Ritornano “Gli Amici del Plettro”
DESCRIPTION:NOCI – Mercoledì 6 Gennaio\, presso la Chiesa del Ss Nome di Gesù\, alle ore 20\, si svolgerà il concerto di Epifania del gruppo “Gli Amici del Plettro” nell’ambito delle iniziative natalizie promosse dal Comune di Noci. E’ un ritorno importante quello della formazione musicale nocese di strumenti a plettro\, rafforzata dalla voglia di rilanciare una tradizione che fa parte della nostra storia musicale. Si annuncia\, dunque\, un concerto ricco di emozioni\, caratterizzato dai classici pezzi nocesi scritti dal Maestro Carlo Silvestri ma anche da brani del repertorio napoletano\, non tralasciando l’esecuzione di alcuni pezzi che hanno fatto la storia delle musica classica. L’iniziativa\, che segna il ritorno del gruppo dopo alcuni anni\, si propone come punto iniziale di un nuovo percorso musicale che intende promuovere quella nocesità che\, anche attraverso la musica\, vede la nostra cittadina come luogo in grado di rappresentare al meglio quella cultura dell’accoglienza che trova il suo luogo naturale nella murgia dei trulli. Il concerto sarà presentato dalla Dr.ssa Vincenza D’onghia. \n  \nMichele Pettinato – “Gli Amici del Plettro”
URL:https://www.legginoci.com/evento/il-6-gennaio-ritornano-gli-amici-del-plettro/
LOCATION:chiesa SS Nome di Gesù\, via Cappuccini\, Noci\, 70015\, Italia
CATEGORIES:cat eventi 1
ATTACH;FMTTYPE=image/jpeg:https://www.legginoci.com/wp-content/uploads/2016/01/amici-del-plettro.jpg
END:VEVENT
BEGIN:VEVENT
DTSTART;TZID=Europe/Rome:20160105T180000
DTEND;TZID=Europe/Rome:20160105T180000
DTSTAMP:20260421T024533
CREATED:20160102T093033Z
LAST-MODIFIED:20160102T093033Z
UID:5525-1452016800-1452016800@www.legginoci.com
SUMMARY:Cosa è l'anima? Incontro pubblico con don Nicola D'Onghia e Enzo Bartalotta
DESCRIPTION:NOCI – Noci\, sempre sensibile alla conoscenza ed alla cultura\, ospiterà un evento dedicato in cui si parla di Anima. Il tema è attuale\, perché viviamo un tempo in cui ricerca\, ritorno ai valori profondi ed ai significati della vita\, sembrano la via più sicura per difenderci da un mondo veloce\, consumistico e divorante. L’uomo di oggi\, forse più che mai\, necessita di ritrovare la sua Anima. Ma cosa è l’anima? \nPlatone è stato senza dubbio un riferimento importante per le successive concezioni di anima. La sua influenza la ritroviamo tutt’oggi in molte discipline. Platone divideva la realtà in due parti: il mondo sensibile (accessibile tramite i sensi) ed il mondo delle idee\, eterne e immutabili (accessibili tramite il pensiero). Questa sua visione è alla base della concezione di uomo\, anch’esso formato da due parti: un corpo legato al mondo sensibile e un’anima immortale\, capace di contemplare il mondo delle idee. Siccome il simile conosce il simile\, solo l’anima conosce le idee. Entrambi\, anima ed idee sono invisibili. \nNella concezione Platonica troviamo un forte riferimento (utile suggerimento) per vivere meglio il nostro tempo. Nell’affermazione che l’anima per essere veramente “libera” deve svincolarsi dalla prigionia del corpo\, quindi del mondo sensoriale\, perché quest’ultimo è sempre sentito come qualcosa di incompleto e insignificante\, troviamo tracce predittive di un insoddisfacente mondo consumistico e narcisistico. Platone infatti sublimava l’anima\, individuando in essa il principio di vita\, per sé stessa e addirittura per il corpo\, che senza anima resterebbe inerte. \nNel tempo il termine anima è stato mutuato da diverse discipline\, dalla filosofia alla psicologia\, dalla religione alla comunicazione ed al marketing. Il 5 Gennaio 2016\, alle ore 18.00\, presso il Chiostro delle Clarisse\, riprenderanno il tema dell’anima\, dal punto di vista teologico Don Nicola D’Onghia\, già autore del libro “Neuroscienze e interconnessione dei saperi” (edito da Laterza) e dal punto di vista Marketing e Comunicazione Enzo Bartalotta\, autore del libro Chromothinking (edito da MarkUp-IlSole24Ore). \nI due relatori\, senza la pretesa di essere esaustivi\, con umiltà si pongono l’obiettivo di sensibilizzare la collettività\, riportando al centro della vita quotidiana valori più profondi ed etici\, quali fonte di benessere interiore. Il concetto di anima è sembrato quanto di più appropriato.
URL:https://www.legginoci.com/evento/cosa-e-lanima-incontro-pubblico-con-don-nicola-donghia-e-enzo-bartalotta/
LOCATION:Chiostro delle Clarisse\, via Porta Putignano\, Noci\, Italia
CATEGORIES:cat eventi 1
ATTACH;FMTTYPE=image/jpeg:https://www.legginoci.com/wp-content/uploads/2016/01/anima-loc-sito.jpg
END:VEVENT
BEGIN:VEVENT
DTSTART;TZID=Europe/Rome:20151231T163000
DTEND;TZID=Europe/Rome:20151231T163000
DTSTAMP:20260421T024533
CREATED:20151231T101105Z
LAST-MODIFIED:20151231T101105Z
UID:5503-1451579400-1451579400@www.legginoci.com
SUMMARY:150° Pietro Gioja\, da oggi una lapide per ricordarlo
DESCRIPTION:NOCI – E Pietro Gioja avrà una lapide commemorativa sulla facciata del Municipio. Infatti\, a centocinquanta anni dalla morte dell’autore – nella prima metà dell’Ottocento – delle celebri “Conferenze istoriche”\, un’epigrafe marmorea verrà affissa questa sera presso la facciata nord del Palazzo Municipale di Via Porta Putignano. Ne dà notizia il sen. Piero Liuzzi che\, d’intesa con la collega senatrice Angela D’Onghia – sottosegretario di Stato alla pubblica istruzione – ha invitato nelle scorse settimane l’Amministrazione Comunale di Noci a farsi interprete della volontà di chiudere entro l’anno centenario il percorso celebrativo della figura e dell’opera del grande storico locale lasciando alla città una tangibile testimonianza di riconoscenza. \nImmediatamente\, il Comune\, nella persona del sindaco Domenico Nisi\, ha disposto l’autorizzazione ad ammurare l’epigrafe che riporta un brano della lettera spedita il 10 luglio del 1839 da Napoli e indirizzata da Gioja figlio al padre Michele di presentazione del primo dei tre volumi di cui si compone la\,laboriosa opera storica. Pertanto\, alle ore 16\,30 di oggi\, avrà luogo lo scoprimento della lapide celebrativa con una semplice ma significativa manifestazione a cui prenderanno parte autorità e cittadini.
URL:https://www.legginoci.com/evento/150-pietro-gioja-da-oggi-una-lapide-per-ricordarlo/
LOCATION:Ex Palazzo Municipale\, via Porta Putignano\, Noci\, Bari\, 70015\, Italia
CATEGORIES:cat eventi 1
ATTACH;FMTTYPE=image/jpeg:https://www.legginoci.com/wp-content/uploads/2015/12/pietro-joia.jpg
END:VEVENT
BEGIN:VEVENT
DTSTART;TZID=Europe/Rome:20151228T183000
DTEND;TZID=Europe/Rome:20151228T183000
DTSTAMP:20260421T024533
CREATED:20151227T064649Z
LAST-MODIFIED:20151226T195109Z
UID:5441-1451327400-1451327400@www.legginoci.com
SUMMARY:ProLoco: Festa di fine anno al chiostro San Domenico
DESCRIPTION:NOCI – Lassociazione di promozione territoriale ProLoco in collaborazione con l’associazione Terra Nucum organizzano per lunedì 28 dicembre alle ore 18.30 presso il Chiostro San Domenico la tradizionale “Festa di fine anno”. Durante la serata\, presentata da Mariarosaria Lippils\, verranno illustrate le nuove tabelle che compongono il Museo della Strada e letti alcuni documenti attraverso le voci di Angela Antonacci e Antonio Natile. La serata verrà allietata dagli interventi musicali di Lucrezia Orlano (clarinetto) e Letizia Cassone (chitarra). Infine momento degustativo. Ingresso libero.
URL:https://www.legginoci.com/evento/proloco-festa-di-fine-anno-al-chiostro-san-domenico/
LOCATION:Chiostro San Domenico\, via Repubblica\, Noci\, 70015\, Italia
CATEGORIES:cat eventi 1
ATTACH;FMTTYPE=image/jpeg:https://www.legginoci.com/wp-content/uploads/2015/12/Festa-di-fine-anno.jpg
END:VEVENT
BEGIN:VEVENT
DTSTART;TZID=Europe/Rome:20151222T170000
DTEND;TZID=Europe/Rome:20151222T170000
DTSTAMP:20260421T024533
CREATED:20151221T113702Z
LAST-MODIFIED:20151221T113820Z
UID:5338-1450803600-1450803600@www.legginoci.com
SUMMARY:“Battito sordo” il musical dei liceali per “Tante luci per Natale 2015”
DESCRIPTION:NOCI – “Battito sordo” è il titolo del musical che gli studenti dell’IIS “Da Vinci – Galilei” sono pronti a rappresentare martedì 22 dicembre 2015 alle ore 17:00 presso il Teatro Gabrieli di Noci. Il tradizionale appuntamento con “Tante luci per Natale”\, un progetto di ampliamento dell’offerta formativa ormai storico del “Da Vinci”\, si svolgerà grazie alla attiva partecipazione di oltre 60 studenti del liceo e alla regia della prof.ssa Fenisia Gramolini. \nSotto la coltre della indifferenza\, della paura\, del terrorismo\, della guerra\, c’è un cuore che batte in ognuno di noi. Un cuore il cui ”battito sordo” non smette di ricordarci la nostra umanità\, di permetterci di sognare un mondo nuovo ed unito. Un battito che non può essere ignorato. Con musica\, canti\, danze\, testi recitati\, scenografie gli studenti\, veri protagonisti dell’evento musicale\, lanceranno il proprio messaggio di speranza. \nDurante la serata di gioia e di festa\, alla presenza di studenti e famiglie\, comprese le famiglie degli studenti che si iscriveranno nel prossimo anno scolastico 2016-2017\, si svolgerà anche la premiazione delle eccellenze della scuola\, i “100” e i “100 e lode” e tutti i vincitori di gare e di certamina nel corso dell’anno scolastico 2014-2015. \nNel corso della serata saranno inoltre annunciate le importanti novità del prossimo anno scolastico 2016-2017 con numerose ed innovative opportunità didattiche e formative per tutti i nuovi iscritti. \n  \nRedazione di Istituto \nIIS “Da Vinci – Galilei”
URL:https://www.legginoci.com/evento/battito-sordo-il-musical-dei-liceali-per-tante-luci-per-natale-2015/
LOCATION:Teatro Gabrieli\, Noci\, Italia
CATEGORIES:cat eventi 1
ATTACH;FMTTYPE=image/jpeg:https://www.legginoci.com/wp-content/uploads/2015/12/ragazzi-Da-Vinci-Tante-luci-per-Natale.jpg
END:VEVENT
BEGIN:VEVENT
DTSTART;TZID=Europe/Rome:20151219T163000
DTEND;TZID=Europe/Rome:20151219T163000
DTSTAMP:20260421T024533
CREATED:20151217T064155Z
LAST-MODIFIED:20151216T173537Z
UID:5276-1450542600-1450542600@www.legginoci.com
SUMMARY:Apre i battenti La Ninfea\, residenza socio assistenziale per anziani
DESCRIPTION:NOCI – Si comunica che sabato 19 dicembre alle ore 16.30 avverrà la benedizione della nuova residenza socio assistenziale per anziani La Ninfea. La nuova residenza è sita a Noci in via Tommaso Siciliani al civico 83/E (alle spalle dello Slargo del Suono). A seguire Santa Messa natalizia officiata da don Peppino Mineccia. La cittadinanza è invitata.
URL:https://www.legginoci.com/evento/apre-i-battenti-la-ninfea-residenza-socio-assistenziale-per-anziani/
LOCATION:La Ninfea\, via Tommaso Siciliani\, Noci\, Italia
CATEGORIES:cat eventi 1
ATTACH;FMTTYPE=image/jpeg:https://www.legginoci.com/wp-content/uploads/2015/12/casa-di-riposo.jpg
END:VEVENT
BEGIN:VEVENT
DTSTART;TZID=Europe/Rome:20151218T193000
DTEND;TZID=Europe/Rome:20151218T193000
DTSTAMP:20260421T024533
CREATED:20151216T062628Z
LAST-MODIFIED:20151215T173606Z
UID:5258-1450467000-1450467000@www.legginoci.com
SUMMARY:Magdi Cristiano Allam presenta "Islam\, siamo in guerra"
DESCRIPTION:NOCI – L’associazione culturale Officina per Noci organizza per venerdì 18 dicembre l’incontro con l’autore Magdi Cristiano Allam per presentare il libro “Islam\, siamo in guerra” (Ed. Magic Press). L’incontro avverrà al Chiostro delle Clarisse alle ore 19.30. Ingresso libero.
URL:https://www.legginoci.com/evento/magdi-cristiano-allam-presenta-islam-siamo-in-guerra/
LOCATION:Chiostro delle Clarisse\, via Porta Putignano\, Noci\, Italia
CATEGORIES:cat eventi 1
ATTACH;FMTTYPE=image/jpeg:https://www.legginoci.com/wp-content/uploads/2015/12/libro-magdi-allam.jpg
END:VEVENT
BEGIN:VEVENT
DTSTART;TZID=Europe/Rome:20151218T100000
DTEND;TZID=Europe/Rome:20151222T200000
DTSTAMP:20260421T024533
CREATED:20151214T175654Z
LAST-MODIFIED:20151214T175654Z
UID:5245-1450432800-1450814400@www.legginoci.com
SUMMARY:Natale 2015 al comprensorio "Gallo-Positano-Scotellaro"
DESCRIPTION:NOCI – Clandario delle manifestazioni natalizie proposto dal comprensorio Gallo-Positano-Scotellaro ricco di eventi. Da venerdì 18 a martedì 22 dicembre gli alunni dei tre plessi scolastici saranno protagonisti di diversi incontri immersi di atmosfera natalizia. Tra gli altri spiccano l’incontro di sabato 19 dicembre in collaborazione con i Presidi del Libro\, il Concerto di Natale nella chiesa matrice e il Presepe vivente all’interno della scuola Positano. Gli incontri sono aperti al pubblico.
URL:https://www.legginoci.com/evento/natale-2015-al-comprensorio-gallo-positano-scotellaro/
LOCATION:Scuola F. Positano\, Largo F Positano\, 34\, Noci\, 70015\, Italia
CATEGORIES:cat eventi 1
ATTACH;FMTTYPE=image/jpeg:https://www.legginoci.com/wp-content/uploads/2015/12/natale-gallo-positano.jpg
END:VEVENT
BEGIN:VEVENT
DTSTART;TZID=Europe/Rome:20151213T090000
DTEND;TZID=Europe/Rome:20151213T130000
DTSTAMP:20260421T024533
CREATED:20151207T111638Z
LAST-MODIFIED:20151210T151502Z
UID:5110-1449997200-1450011600@www.legginoci.com
SUMMARY:Mercatino del riuso
DESCRIPTION:NOCI (Bari) – Domenica 13 dicembre dalle ore 9 alle 13 in piazza Garibaldi è possibile vendere\, donare\, barattare\, oggetti che privati cittadini intendono disfarsene. Chiunque può portare liberamente il proprio oggetto da destinare ad altri.
URL:https://www.legginoci.com/evento/mercatino-del-riuso/
LOCATION:Piazza Garibaldi\, Noci\, Italia
CATEGORIES:cat eventi 1
ATTACH;FMTTYPE=image/jpeg:https://www.legginoci.com/wp-content/uploads/2015/12/mercatino-riuso-loc.jpg
END:VEVENT
BEGIN:VEVENT
DTSTART;TZID=Europe/Rome:20151212T183000
DTEND;TZID=Europe/Rome:20151213T200000
DTSTAMP:20260421T024533
CREATED:20151212T121715Z
LAST-MODIFIED:20151212T121850Z
UID:5193-1449945000-1450036800@www.legginoci.com
SUMMARY:Festa di S. Lucia
DESCRIPTION:NOCI (Bari) – E’ con l’accensione del falò di questo pomeriggio alle 18.30 che i festeggiamenti in onore di Santa Lucia entreranno nel clue.  Domani alle 6 sul sagrato della chiesa matrice verrà suonata come di consueto la Pastorale composta dal M° Lippolis. Sarà la banda cittadina G. Sgobba-Santa cecialia ad omaggiare in musica la santa protettrice della vista. Infine\, domani 13 dicembre\, al termine della santa messa delle ore 19 ci sarà la processione lungo l’estramurale del paese. I fuochi pirotecnici sono affidati alla Pirotecnica Laertina\, le luminarie di Antonio Bruno. L’organizzazione ringrazia Intini legnami sas per il materiale da ardere al falò.
URL:https://www.legginoci.com/evento/festa-di-s-lucia/
LOCATION:Piazza Garibaldi\, Noci\, Italia
CATEGORIES:cat eventi 1
ATTACH;FMTTYPE=image/jpeg:https://www.legginoci.com/wp-content/uploads/2015/12/santa-lucia.jpg
END:VEVENT
BEGIN:VEVENT
DTSTART;TZID=Europe/Rome:20151208T170000
DTEND;TZID=Europe/Rome:20151208T190000
DTSTAMP:20260421T024533
CREATED:20151207T105441Z
LAST-MODIFIED:20151207T105441Z
UID:5107-1449594000-1449601200@www.legginoci.com
SUMMARY:Omaggio alla Madonna Immacolata
DESCRIPTION:Martedì 8 dicembre a Putignano i Vigili del fuoco di Bari e distaccamento di Putignano renderanno omaggio alla Madonna Immacolata posta sulla stele di Largo Portanuova. Alle ore 17 i vigili del fuoco accompagneranno il sindaco di Putignano Domenico Giannandrea a 10mt d’altezza per depositare nelle mani giunte della Madonna il santo rosario. Alla celebrazione parteciperanno le autorità civili e militari\, le associazioni di volontariato e tutte le parrocchie. La cittadinanza è invitata.
URL:https://www.legginoci.com/evento/omaggio-alla-madonna-immacolata/
LOCATION:Largo Porta Nuova\, Putignano\, Italia
CATEGORIES:cat eventi 1
ATTACH;FMTTYPE=image/jpeg:https://www.legginoci.com/wp-content/uploads/2015/12/stele-madonna-rosario-putignano.jpg
END:VEVENT
BEGIN:VEVENT
DTSTART;VALUE=DATE:20151206
DTEND;VALUE=DATE:20151207
DTSTAMP:20260421T024533
CREATED:20151206T071300Z
LAST-MODIFIED:20151205T202006Z
UID:5086-1449360000-1449446399@www.legginoci.com
SUMMARY:Renato Ciardo a Noci
DESCRIPTION:NOCI (Bari) – Pronti a partire con il primo appuntamento della terza Rassegna Teatrale “Comicità e Cultura”. Questo pomeriggio\, 6 dicembre\, alle 18.30 al teatro Gabrieli in via vecchia per Putignano a Noci è ospite RENATO CIARDO in “SOLO SOLO\, canzoni e fatti… a stare”. Prevendita presso Lippolis Tabacchi in piazza Garibaldi a Noci. La rassegna è curata dall’associazione politico-culturale Noci2020.
URL:https://www.legginoci.com/evento/renato-ciardo-a-noci/
CATEGORIES:cat eventi 1
ATTACH;FMTTYPE=image/jpeg:https://www.legginoci.com/wp-content/uploads/2015/12/renato-ciardo.jpg
END:VEVENT
END:VCALENDAR